BEGIN:VCALENDAR
VERSION:2.0
PRODID:-//ゴチャせたがや - ECPv6.15.20//NONSGML v1.0//EN
CALSCALE:GREGORIAN
METHOD:PUBLISH
X-WR-CALNAME:ゴチャせたがや
X-ORIGINAL-URL:https://gocha-setagaya.jp
X-WR-CALDESC:ゴチャせたがや のイベント
REFRESH-INTERVAL;VALUE=DURATION:PT1H
X-Robots-Tag:noindex
X-PUBLISHED-TTL:PT1H
BEGIN:VTIMEZONE
TZID:Asia/Tokyo
BEGIN:STANDARD
TZOFFSETFROM:+0900
TZOFFSETTO:+0900
TZNAME:JST
DTSTART:20240101T000000
END:STANDARD
END:VTIMEZONE
BEGIN:VEVENT
DTSTART;TZID=Asia/Tokyo:20260418T130000
DTEND;TZID=Asia/Tokyo:20260418T150000
DTSTAMP:20260423T210902
CREATED:20260225T154415Z
LAST-MODIFIED:20260418T023804Z
UID:406-1776517200-1776524400@gocha-setagaya.jp
SUMMARY:ゴチャせたがや｜居場所イベント（４月１８日）
DESCRIPTION:【こんな方のための居場所です】\n・人との関わりをゆっくり始めたい方・同じ悩みを持つ人同士で話し合いたい方・ひきこもりの状態にある方・発達特性の方 \n\nテーマ\n　・仕事（職場）のこと　・家族・友人のこと　・これからのこと　・対話（ダイアローグ）　（聞くだけも大丈夫です）※内容は参加される方の様子に合わせて行います。 \n\n開催概要\n　日時：2026年4月18日（土）13:00-15:00 \n　場所：世田谷産業プラザ ３F 小会議室（世田谷区太子堂2-16-7）　　　　※三軒茶屋駅から徒歩３分 \n　参加費：無料 \n　定員：少人数 \n　申込：不要（途中参加・途中退出OK） \n\n安心して参加するために\n【安心して過ごすために】・お互いを尊重し、丁寧に交流します・相手の話を否定せず、まずは受け止めよう・強引に勧誘しない（ビジネス・宗教・声掛け）・居場所での会話内容は外で話さない・出入り自由（途中参加・途中退出OK）※医療行為や助言は行いません
URL:https://gocha-setagaya.jp/event/ibasho-event-20260418/
LOCATION:世田谷産業プラザ\, 太子堂2-16-7\, 世田谷区\, 東京都\, 154-0004\, Japan
CATEGORIES:居場所
END:VEVENT
BEGIN:VEVENT
DTSTART;TZID=Asia/Tokyo:20260328T130000
DTEND;TZID=Asia/Tokyo:20260328T150000
DTSTAMP:20260423T210902
CREATED:20260131T141254Z
LAST-MODIFIED:20260215T145330Z
UID:298-1774702800-1774710000@gocha-setagaya.jp
SUMMARY:ゴチャせたがや｜居場所イベント（3/28）
DESCRIPTION:ゴチャせたがや｜居場所イベント\n「ゴチャせたがや」は、誰かとつながりたい方が、安心して“そこにいるだけ”でいい居場所です。 \n話さなくても大丈夫。聞くだけ・居るだけでも参加できます。 \n\n当日の過ごし方（目安）\n・簡単な場の説明 \n・自由に過ごす時間 \n・おしゃべり \n・本を読む・絵を描く \n・簡単なゲーム \n・スマホの使い方を一緒に確認する時間 \n※内容は参加される方の様子に合わせて行います。 \n\n開催概要\n　日時：[2026年㋂28日（土）13:00-15:00] \n　場所：［世田谷産業プラザ ３F 小会議室］（［世田谷区太子堂2-16-7］） \n　参加費：無料 \n　定員：少人数 \n　申込：不要（途中参加・途中退出OK） \n\n安心して参加するために\n・話した内容を外に出すことはありません \n・無理な声かけはしません \n・写真撮影は原則行いません \n・営利・勧誘・政治・宗教活動は禁止です
URL:https://gocha-setagaya.jp/event/20260328/
LOCATION:世田谷産業プラザ\, 太子堂2-16-7\, 世田谷区\, 東京都\, 154-0004\, Japan
CATEGORIES:居場所
END:VEVENT
BEGIN:VEVENT
DTSTART;TZID=Asia/Tokyo:20260320T130000
DTEND;TZID=Asia/Tokyo:20260320T150000
DTSTAMP:20260423T210902
CREATED:20260131T141221Z
LAST-MODIFIED:20260215T145249Z
UID:296-1774011600-1774018800@gocha-setagaya.jp
SUMMARY:ゴチャせたがや｜居場所イベント（3/20）
DESCRIPTION:ゴチャせたがや｜居場所イベント\n「ゴチャせたがや」は、誰かとつながりたい方が、安心して“そこにいるだけ”でいい居場所です。 \n話さなくても大丈夫。聞くだけ・居るだけでも参加できます。 \n\n当日の過ごし方（目安）\n・簡単な場の説明 \n・自由に過ごす時間 \n・おしゃべり \n・本を読む・絵を描く \n・簡単なゲーム \n・スマホの使い方を一緒に確認する時間 \n※内容は参加される方の様子に合わせて行います。 \n\n開催概要\n　日時：[2026年3月20日（金・祝）13:00-15:00] \n　場所：［世田谷産業プラザ ３F 小会議室］（［世田谷区太子堂2-16-7］） \n　参加費：無料 \n　定員：少人数 \n　申込：不要（途中参加・途中退出OK） \n\n安心して参加するために\n・話した内容を外に出すことはありません \n・無理な声かけはしません \n・写真撮影は原則行いません \n・営利・勧誘・政治・宗教活動は禁止です
URL:https://gocha-setagaya.jp/event/20260320/
LOCATION:世田谷産業プラザ\, 太子堂2-16-7\, 世田谷区\, 東京都\, 154-0004\, Japan
CATEGORIES:居場所
END:VEVENT
BEGIN:VEVENT
DTSTART;TZID=Asia/Tokyo:20260307T130000
DTEND;TZID=Asia/Tokyo:20260307T150000
DTSTAMP:20260423T210902
CREATED:20260131T141141Z
LAST-MODIFIED:20260215T145348Z
UID:294-1772888400-1772895600@gocha-setagaya.jp
SUMMARY:ゴチャせたがや｜居場所イベント（3/7）
DESCRIPTION:ゴチャせたがや｜居場所イベント\n「ゴチャせたがや」は、誰かとつながりたい方が、安心して“そこにいるだけ”でいい居場所です。 \n話さなくても大丈夫。聞くだけ・居るだけでも参加できます。 \n\n当日の過ごし方（目安）\n・簡単な場の説明 \n・自由に過ごす時間 \n・おしゃべり \n・本を読む・絵を描く \n・簡単なゲーム \n・スマホの使い方を一緒に確認する時間 \n※内容は参加される方の様子に合わせて行います。 \n\n開催概要\n　日時：[2026年㋂7日（土）13:00-15:00] \n　場所：［世田谷産業プラザ ３F 小会議室］（［世田谷区太子堂2-16-7］） \n　参加費：無料 \n　定員：少人数 \n　申込：不要（途中参加・途中退出OK） \n\n安心して参加するために\n・話した内容を外に出すことはありません \n・無理な声かけはしません \n・写真撮影は原則行いません \n・営利・勧誘・政治・宗教活動は禁止です
URL:https://gocha-setagaya.jp/event/20260307/
LOCATION:世田谷産業プラザ\, 太子堂2-16-7\, 世田谷区\, 東京都\, 154-0004\, Japan
CATEGORIES:居場所
END:VEVENT
BEGIN:VEVENT
DTSTART;TZID=Asia/Tokyo:20260221T130000
DTEND;TZID=Asia/Tokyo:20260221T150000
DTSTAMP:20260423T210902
CREATED:20260117T020724Z
LAST-MODIFIED:20260215T145420Z
UID:241-1771678800-1771686000@gocha-setagaya.jp
SUMMARY:ゴチャせたがや｜居場所イベント（2/21）
DESCRIPTION:ゴチャせたがや｜居場所イベント\n「ゴチャせたがや」は、誰かとつながりたい方が、安心して“そこにいるだけ”でいい居場所です。 \n話さなくても大丈夫。聞くだけ・居るだけでも参加できます。 \n\n当日の過ごし方（目安）\n・簡単な場の説明 \n・自由に過ごす時間 \n・おしゃべり \n・本を読む・絵を描く \n・簡単なゲーム \n・スマホの使い方を一緒に確認する時間 \n※内容は参加される方の様子に合わせて行います。 \n\n開催概要\n　日時：[2026年2月21日（土）13:00-15:00] \n　場所：［世田谷産業プラザ ３F 小会議室］（［世田谷区太子堂2-16-7］） \n　参加費：無料 \n　定員：少人数 \n　申込：不要（途中参加・途中退出OK） \n\n安心して参加するために\n・話した内容を外に出すことはありません \n・無理な声かけはしません \n・写真撮影は原則行いません \n・営利・勧誘・政治・宗教活動は禁止です
URL:https://gocha-setagaya.jp/event/20260221/
LOCATION:世田谷産業プラザ\, 太子堂2-16-7\, 世田谷区\, 東京都\, 154-0004\, Japan
CATEGORIES:居場所
END:VEVENT
BEGIN:VEVENT
DTSTART;TZID=Asia/Tokyo:20260208T130000
DTEND;TZID=Asia/Tokyo:20260208T150000
DTSTAMP:20260423T210902
CREATED:20260117T020607Z
LAST-MODIFIED:20260215T144943Z
UID:239-1770555600-1770562800@gocha-setagaya.jp
SUMMARY:ゴチャせたがや｜居場所イベント（2/8）
DESCRIPTION:ゴチャせたがや｜居場所イベント\n「ゴチャせたがや」は、誰かとつながりたい方が、安心して“そこにいるだけ”でいい居場所です。 \n話さなくても大丈夫。聞くだけ・居るだけでも参加できます。 \n\n当日の過ごし方（目安）\n・簡単な場の説明 \n・自由に過ごす時間 \n・おしゃべり \n・本を読む・絵を描く \n・簡単なゲーム \n・スマホの使い方を一緒に確認する時間 \n※内容は参加される方の様子に合わせて行います。 \n\n開催概要\n　日時：[2026年2月8日（土）13:00-15:00] \n　場所：［世田谷産業プラザ ３F 小会議室］（［世田谷区太子堂2-16-7］） \n　参加費：無料 \n　定員：少人数 \n　申込：不要（途中参加・途中退出OK） \nGoogle Map \n\n安心して参加するために\n・話した内容を外に出すことはありません \n・無理な声かけはしません \n・写真撮影は原則行いません \n・営利・勧誘・政治・宗教活動は禁止です \n\n\n 
URL:https://gocha-setagaya.jp/event/20260208/
LOCATION:世田谷産業プラザ\, 太子堂2-16-7\, 世田谷区\, 東京都\, 154-0004\, Japan
CATEGORIES:居場所
END:VEVENT
BEGIN:VEVENT
DTSTART;TZID=Asia/Tokyo:20260201T130000
DTEND;TZID=Asia/Tokyo:20260201T150000
DTSTAMP:20260423T210902
CREATED:20260117T012154Z
LAST-MODIFIED:20260215T144922Z
UID:237-1769950800-1769958000@gocha-setagaya.jp
SUMMARY:ゴチャせたがや｜居場所イベント（2/1）
DESCRIPTION:ゴチャせたがや｜居場所イベント\n「ゴチャせたがや」は、誰かとつながりたい方が、安心して“そこにいるだけ”でいい居場所です。 \n話さなくても大丈夫。聞くだけ・居るだけでも参加できます。 \n\n当日の過ごし方（目安）\n・簡単な場の説明 \n・自由に過ごす時間 \n・おしゃべり \n・本を読む・絵を描く \n・簡単なゲーム \n・スマホの使い方を一緒に確認する時間 \n※内容は参加される方の様子に合わせて行います。 \n\n開催概要\n　日時：[2026年2月1日（日）13:00-15:00] \n　場所：［世田谷産業プラザ ３F 小会議室］（［世田谷区太子堂2-16-7］） \n　参加費：無料 \n　定員：少人数 \n　申込：不要（途中参加・途中退出OK） \nGoogle Map \n\n安心して参加するために\n・話した内容を外に出すことはありません \n・無理な声かけはしません \n・写真撮影は原則行いません \n・営利・勧誘・政治・宗教活動は禁止です \n\n\n 
URL:https://gocha-setagaya.jp/event/20260201/
LOCATION:世田谷産業プラザ\, 太子堂2-16-7\, 世田谷区\, 東京都\, 154-0004\, Japan
CATEGORIES:居場所
END:VEVENT
BEGIN:VEVENT
DTSTART;TZID=Asia/Tokyo:20260117T140000
DTEND;TZID=Asia/Tokyo:20260117T160000
DTSTAMP:20260423T210902
CREATED:20260117T010037Z
LAST-MODIFIED:20260215T144856Z
UID:216-1768658400-1768665600@gocha-setagaya.jp
SUMMARY:ゴチャせたがや｜居場所イベント（1/17）
DESCRIPTION:― 誰かとつながりたい、役割を持ちたい方のための「居場所」です ―\n\n\n\n「ゴチャせたがや」は、 周りに話し相手がいない方、誰かと同じ空間で過ごしたい方のための、 安心して“そこにいるだけ”でいい居場所です。 \n\n\n\n話さなくても大丈夫。 何かをしなくても大丈夫。 ただ同じ空間にいるだけでも構いません。 \n\n\n\nゆっくりとした時間を、一緒に過ごせたらと思っています。 \n\nこんな方と「居場所で」つながりたいです\n\n\n\n\n\nご本人\n\n\n\n\nひきこもり状態にあり、人と話すことに不安がある方\n\n\n\n一人暮らしで、話す機会が少ない高齢の方\n\n\n\n障がいがあり、地域との関わりに悩んでいる方\n\n\n\n\nご家族・身近な方\n\n\n\n\nひきこもりのご家族を見守っている方\n\n\n\n独居高齢者のご家族\n\n\n\n障がいのある方のご家族・きょうだい\n\n\n\n\nこんな気持ちのある方\n\n\n\n\n周りにつながっている人がいなくて、誰かとつながりたい\n\n\n\n自分の居場所がないと感じている\n\n\n\n小さくても「役割」を持ちたいと感じている\n\n\n\n\nゴチャせたがやが大切にしていること\n\n\n\n\n話す・話さないは自由です\n\n\n\n聞くだけ・居るだけでも大丈夫です\n\n\n\n今の状態のままで参加できます\n\n\n\n名前や立場を名乗る必要はありません\n\n\n\n\nここは、 支援につなげるための場でも、 問題を解決するための場でもありません。 \n\n\n\n「つながる前の、安心できる“途中の居場所”」 でありたいと考えています。 \n\n\n\n当日の流れ（予定）\n\n\n\n\n簡単な場の説明（数分）\n\n\n\n\n\n自由に過ごす時間\n\n座っているだけ\n\n\n\n本を読む\n\n\n\n絵を描く\n\n\n\n話したくなったら話す\n\n\n\n\n\n\n※あくまで目安です。 \n\n\n\n開催概要\n\n\n\n\n日時：2026年1月17日（土）14:00〜16:00\n\n\n\n場所：ふれあい貸し会議室 三軒茶屋A\n\n東京都世田谷区三軒茶屋1-35-5 柳屋ビル4階402\n\n\n\n\n\n参加費：無料\n\n\n\n定員：8名（少人数）\n\n\n\n持ち物：特になし\n\n\n \n\n安心して参加するために\n\n\n\n\n話した内容を外に出すことはありません\n\n\n\n無理な声かけはしません\n\n\n\n写真撮影は原則行いません\n\n\n\n困ったときは、そっとスタッフに伝えてください\n\n\n\n営利目的・勧誘・政治活動・宗教活動は禁止です。\n\n\n\n\n👉 詳しくは「安心して参加するために」のページをご覧ください。 \n\n\n\n\n安心して参加するために\n\n\n\n\n参加について\n\n\n\n\n申込不要です。 当日、気が向いたらふらっとお立ち寄りください。\n\n\n\n途中参加・途中退室もOKです。\n\n\n\n\n参加するか迷っている方は、事前にお問い合わせいただいても大丈夫です。丁寧にお答えします。 \n\nお問い合わせ
URL:https://gocha-setagaya.jp/event/20260117/
LOCATION:ふれあい貸し会議室 三軒茶屋A\, 三軒茶屋1-35-5\, 世田谷区\, 東京都\, 154-0024\, Japan
CATEGORIES:居場所
END:VEVENT
BEGIN:VEVENT
DTSTART;TZID=Asia/Tokyo:20251227T140000
DTEND;TZID=Asia/Tokyo:20251227T150000
DTSTAMP:20260423T210902
CREATED:20260117T005247Z
LAST-MODIFIED:20260215T144754Z
UID:210-1766844000-1766847600@gocha-setagaya.jp
SUMMARY:ゴチャせたがや｜居場所イベント（12/27）
DESCRIPTION:― 誰かとつながりたい、役割を持ちたい方のための「居場所」です ―\n「ゴチャせたがや」は、 周りに話し相手がいない方、誰かと同じ空間で過ごしたい方のための、 安心して“そこにいるだけ”でいい居場所です。 \n\n\n\n話さなくても大丈夫。 何かをしなくても大丈夫。 ただ同じ空間にいるだけでも構いません。 \n\n\n\nゆっくりとした時間を、一緒に過ごせたらと思っています。 \n\nこんな方と「居場所で」つながりたいです\n\n\n\n\n\nご本人\n\n\n\n\nひきこもり状態にあり、人と話すことに不安がある方\n\n\n\n一人暮らしで、話す機会が少ない高齢の方\n\n\n\n障がいがあり、地域との関わりに悩んでいる方\n\n\n\n\nご家族・身近な方\n\n\n\n\nひきこもりのご家族を見守っている方\n\n\n\n独居高齢者のご家族\n\n\n\n障がいのある方のご家族・きょうだい\n\n\n\n\nこんな気持ちのある方\n\n\n\n\n周りにつながっている人がいなくて、誰かとつながりたい\n\n\n\n自分の居場所がないと感じている\n\n\n\n小さくても「役割」を持ちたいと感じている\n\n\n\n\nゴチャせたがやが大切にしていること\n\n\n\n\n話す・話さないは自由です\n\n\n\n聞くだけ・居るだけでも大丈夫です\n\n\n\n今の状態のままで参加できます\n\n\n\n名前や立場を名乗る必要はありません\n\n\n\n\nここは、 支援につなげるための場でも、 問題を解決するための場でもありません。 \n\n\n\n「つながる前の、安心できる“途中の居場所”」 でありたいと考えています。 \n\n\n\n当日の流れ（予定）\n\n\n\n\n簡単な場の説明（数分）\n\n\n\n\n\n自由に過ごす時間\n\n座っているだけ\n\n\n\n本を読む\n\n\n\n絵を描く\n\n\n\n話したくなったら話す\n\n\n\n\n\n\n※あくまで目安です。 \n\n\n\n開催概要\n\n\n\n\n日時：2025年12月27日（土）14:00〜15:00\n\n\n\n場所：ふれあい貸し会議室 三軒茶屋A\n\n東京都世田谷区三軒茶屋1-35-5 柳屋ビル4階402\n\n\n\n\n\n参加費：無料\n\n\n\n定員：8名（少人数）\n\n\n\n持ち物：特になし\n\n\n \n\n安心して参加するために\n\n\n\n\n話した内容を外に出すことはありません\n\n\n\n無理な声かけはしません\n\n\n\n写真撮影は原則行いません\n\n\n\n困ったときは、そっとスタッフに伝えてください\n\n\n\n営利目的・勧誘・政治活動・宗教活動は禁止です。\n\n\n\n\n👉 詳しくは「安心して参加するために」のページをご覧ください。 \n\n\n\n\n安心して参加するために\n\n\n\n\n参加について\n\n\n\n\n申込不要です。 当日、気が向いたらふらっとお立ち寄りください。\n\n\n\n途中参加・途中退室もOKです。\n\n\n\n\n参加するか迷っている方は、事前にお問い合わせいただいても大丈夫です。丁寧にお答えします。 \n\nお問い合わせ
URL:https://gocha-setagaya.jp/event/20251227/
LOCATION:ふれあい貸し会議室 三軒茶屋A\, 三軒茶屋1-35-5\, 世田谷区\, 東京都\, 154-0024\, Japan
CATEGORIES:居場所
END:VEVENT
END:VCALENDAR