BEGIN:VCALENDAR
VERSION:2.0
PRODID:-//ゴチャせたがや - ECPv6.15.20//NONSGML v1.0//EN
CALSCALE:GREGORIAN
METHOD:PUBLISH
X-ORIGINAL-URL:https://gocha-setagaya.jp
X-WR-CALDESC:ゴチャせたがや のイベント
REFRESH-INTERVAL;VALUE=DURATION:PT1H
X-Robots-Tag:noindex
X-PUBLISHED-TTL:PT1H
BEGIN:VTIMEZONE
TZID:Asia/Tokyo
BEGIN:STANDARD
TZOFFSETFROM:+0900
TZOFFSETTO:+0900
TZNAME:JST
DTSTART:20250101T000000
END:STANDARD
END:VTIMEZONE
BEGIN:VEVENT
DTSTART;TZID=Asia/Tokyo:20260502T150000
DTEND;TZID=Asia/Tokyo:20260502T170000
DTSTAMP:20260423T204431
CREATED:20260420T121711Z
LAST-MODIFIED:20260420T123752Z
UID:672-1777734000-1777741200@gocha-setagaya.jp
SUMMARY:ゴチャせたがや｜家族会（５月２日）
DESCRIPTION:【こんな方のための家族会です】\n・ご家族のことで悩みや不安を感じている方・同じ立場の方と話をしてみたい方・ひきこもりの状態にあるご家族を支えている方・どう関わればよいか迷っている方 \n\nテーマ\n・ご家族との関わり方について・日々の不安や悩みについて・これからのこと・参加者同士の対話（ダイアローグ） \n（聞くだけの参加も大丈夫です）※内容は参加される方の様子に合わせて行います。 \n\n開催概要\n　日時：2026年5月2日（土）15:00-17:00 \n　場所：世田谷産業プラザ ３F 小会議室（世田谷区太子堂2-16-7）　　　　※三軒茶屋駅から徒歩３分 \n　参加費：無料 \n　定員：少人数 \n　申込：不要（途中参加・途中退出OK） \n\n安心して参加するために\n【安心して過ごすために】 \n・お互いを尊重し、丁寧に話をします・相手の話を否定せず、まずは受け止めます・無理に話す必要はありません（聞くだけでも大丈夫です）・特定の考えを押しつけることはありません（勧誘・宗教・営業など）・会で聞いた内容は外に持ち出さないようお願いします・出入りは自由です \n※医療行為や専門的な助言を行う場ではありません
URL:https://gocha-setagaya.jp/event/family-meeting-20260502/
LOCATION:世田谷産業プラザ\, 太子堂2-16-7\, 世田谷区\, 東京都\, 154-0004\, Japan
CATEGORIES:家族会
END:VEVENT
BEGIN:VEVENT
DTSTART;TZID=Asia/Tokyo:20260515T150000
DTEND;TZID=Asia/Tokyo:20260515T170000
DTSTAMP:20260423T204431
CREATED:20260420T124505Z
LAST-MODIFIED:20260420T124542Z
UID:680-1778857200-1778864400@gocha-setagaya.jp
SUMMARY:ゴチャせたがや｜家族会（５月１５日）
DESCRIPTION:【こんな方のための家族会です】\n・ご家族のことで悩みや不安を感じている方・同じ立場の方と話をしてみたい方・ひきこもりの状態にあるご家族を支えている方・どう関わればよいか迷っている方 \n\nテーマ\n・ご家族との関わり方について・日々の不安や悩みについて・これからのこと・参加者同士の対話（ダイアローグ） \n（聞くだけの参加も大丈夫です）※内容は参加される方の様子に合わせて行います。 \n\n開催概要\n　日時：2026年5月15日（土）15:00-17:00 \n　場所：世田谷産業プラザ ３F 小会議室（世田谷区太子堂2-16-7）　　　　※三軒茶屋駅から徒歩３分 \n　参加費：無料 \n　定員：少人数 \n　申込：不要（途中参加・途中退出OK） \n\n安心して参加するために\n【安心して過ごすために】 \n・お互いを尊重し、丁寧に話をします・相手の話を否定せず、まずは受け止めます・無理に話す必要はありません（聞くだけでも大丈夫です）・特定の考えを押しつけることはありません（勧誘・宗教・営業など）・会で聞いた内容は外に持ち出さないようお願いします・出入りは自由です \n※医療行為や専門的な助言を行う場ではありません
URL:https://gocha-setagaya.jp/event/family-meeting-20260515/
LOCATION:世田谷産業プラザ\, 太子堂2-16-7\, 世田谷区\, 東京都\, 154-0004\, Japan
CATEGORIES:家族会
END:VEVENT
BEGIN:VEVENT
DTSTART;TZID=Asia/Tokyo:20260620T150000
DTEND;TZID=Asia/Tokyo:20260620T170000
DTSTAMP:20260423T204431
CREATED:20260420T124723Z
LAST-MODIFIED:20260420T124723Z
UID:682-1781967600-1781974800@gocha-setagaya.jp
SUMMARY:ゴチャせたがや｜家族会（６月２０日）
DESCRIPTION:【こんな方のための家族会です】\n・ご家族のことで悩みや不安を感じている方・同じ立場の方と話をしてみたい方・ひきこもりの状態にあるご家族を支えている方・どう関わればよいか迷っている方 \n\nテーマ\n・ご家族との関わり方について・日々の不安や悩みについて・これからのこと・参加者同士の対話（ダイアローグ） \n（聞くだけの参加も大丈夫です）※内容は参加される方の様子に合わせて行います。 \n\n開催概要\n　日時：2026年5月15日（土）15:00-17:00 \n　場所：世田谷産業プラザ ３F 小会議室（世田谷区太子堂2-16-7）　　　　※三軒茶屋駅から徒歩３分 \n　参加費：無料 \n　定員：少人数 \n　申込：不要（途中参加・途中退出OK） \n\n安心して参加するために\n【安心して過ごすために】 \n・お互いを尊重し、丁寧に話をします・相手の話を否定せず、まずは受け止めます・無理に話す必要はありません（聞くだけでも大丈夫です）・特定の考えを押しつけることはありません（勧誘・宗教・営業など）・会で聞いた内容は外に持ち出さないようお願いします・出入りは自由です \n※医療行為や専門的な助言を行う場ではありません
URL:https://gocha-setagaya.jp/event/family-meeting-20260620/
LOCATION:世田谷産業プラザ\, 太子堂2-16-7\, 世田谷区\, 東京都\, 154-0004\, Japan
CATEGORIES:家族会
END:VEVENT
END:VCALENDAR