BEGIN:VCALENDAR
VERSION:2.0
PRODID:-//ゴチャせたがや - ECPv6.15.20//NONSGML v1.0//EN
CALSCALE:GREGORIAN
METHOD:PUBLISH
X-WR-CALNAME:ゴチャせたがや
X-ORIGINAL-URL:https://gocha-setagaya.jp
X-WR-CALDESC:ゴチャせたがや のイベント
REFRESH-INTERVAL;VALUE=DURATION:PT1H
X-Robots-Tag:noindex
X-PUBLISHED-TTL:PT1H
BEGIN:VTIMEZONE
TZID:Asia/Tokyo
BEGIN:STANDARD
TZOFFSETFROM:+0900
TZOFFSETTO:+0900
TZNAME:JST
DTSTART:20250101T000000
END:STANDARD
END:VTIMEZONE
BEGIN:VEVENT
DTSTART;TZID=Asia/Tokyo:20260424T190000
DTEND;TZID=Asia/Tokyo:20260424T210000
DTSTAMP:20260421T141522
CREATED:20260418T013816Z
LAST-MODIFIED:20260418T015515Z
UID:642-1777057200-1777064400@gocha-setagaya.jp
SUMMARY:ゴチャせたがや｜居場所イベント（４月２４日）
DESCRIPTION:【こんな方のための居場所です】\n・人との関わりをゆっくり始めたい方・同じ悩みを持つ人同士で話し合いたい方・ひきこもりの状態にある方・発達特性の方 \n\nテーマ\n　・仕事（職場）のこと　・家族・友人のこと　・これからのこと　・対話（ダイアローグ）　（聞くだけも大丈夫です）※内容は参加される方の様子に合わせて行います。 \n\n開催概要\n　日時：2026年4月24日（土）19:00-21:00 \n　場所：世田谷産業プラザ ３F 小会議室（世田谷区太子堂2-16-7）　　　　※三軒茶屋駅から徒歩３分 \n　参加費：無料 \n　定員：少人数 \n　申込：不要（途中参加・途中退出OK） \n\n安心して参加するために\n【安心して過ごすために】・お互いを尊重し、丁寧に交流します・相手の話を否定せず、まずは受け止めよう・強引に勧誘しない（ビジネス・宗教・声掛け）・居場所での会話内容は外で話さない・出入り自由（途中参加・途中退出OK）※医療行為や助言は行いません
URL:https://gocha-setagaya.jp/event/ibasho-event-202604024/
LOCATION:世田谷産業プラザ\, 太子堂2-16-7\, 世田谷区\, 東京都\, 154-0004\, Japan
CATEGORIES:居場所
END:VEVENT
BEGIN:VEVENT
DTSTART;TZID=Asia/Tokyo:20260502T130000
DTEND;TZID=Asia/Tokyo:20260502T150000
DTSTAMP:20260421T141522
CREATED:20260418T014415Z
LAST-MODIFIED:20260418T015037Z
UID:644-1777726800-1777734000@gocha-setagaya.jp
SUMMARY:ゴチャせたがや｜居場所イベント（５月２日）
DESCRIPTION:【こんな方のための居場所です】\n・人との関わりをゆっくり始めたい方・同じ悩みを持つ人同士で話し合いたい方・ひきこもりの状態にある方・発達特性の方 \n\nテーマ\n　・仕事（職場）のこと　・家族・友人のこと　・これからのこと　・対話（ダイアローグ）　（聞くだけも大丈夫です）※内容は参加される方の様子に合わせて行います。 \n\n開催概要\n　日時：2026年5月2日（土）13:00-15:00 \n　場所：世田谷産業プラザ ３F 小会議室（世田谷区太子堂2-16-7）　　　　※三軒茶屋駅から徒歩３分 \n　参加費：無料 \n　定員：少人数 \n　申込：不要（途中参加・途中退出OK） \n\n安心して参加するために\n【安心して過ごすために】・お互いを尊重し、丁寧に交流します・相手の話を否定せず、まずは受け止めよう・強引に勧誘しない（ビジネス・宗教・声掛け）・居場所での会話内容は外で話さない・出入り自由（途中参加・途中退出OK）※医療行為や助言は行いません
URL:https://gocha-setagaya.jp/event/ibasho-event-20260502/
LOCATION:世田谷産業プラザ\, 太子堂2-16-7\, 世田谷区\, 東京都\, 154-0004\, Japan
CATEGORIES:居場所
END:VEVENT
BEGIN:VEVENT
DTSTART;TZID=Asia/Tokyo:20260502T150000
DTEND;TZID=Asia/Tokyo:20260502T170000
DTSTAMP:20260421T141522
CREATED:20260420T121711Z
LAST-MODIFIED:20260420T123752Z
UID:672-1777734000-1777741200@gocha-setagaya.jp
SUMMARY:ゴチャせたがや｜家族会（５月２日）
DESCRIPTION:【こんな方のための家族会です】\n・ご家族のことで悩みや不安を感じている方・同じ立場の方と話をしてみたい方・ひきこもりの状態にあるご家族を支えている方・どう関わればよいか迷っている方 \n\nテーマ\n・ご家族との関わり方について・日々の不安や悩みについて・これからのこと・参加者同士の対話（ダイアローグ） \n（聞くだけの参加も大丈夫です）※内容は参加される方の様子に合わせて行います。 \n\n開催概要\n　日時：2026年5月2日（土）15:00-17:00 \n　場所：世田谷産業プラザ ３F 小会議室（世田谷区太子堂2-16-7）　　　　※三軒茶屋駅から徒歩３分 \n　参加費：無料 \n　定員：少人数 \n　申込：不要（途中参加・途中退出OK） \n\n安心して参加するために\n【安心して過ごすために】 \n・お互いを尊重し、丁寧に話をします・相手の話を否定せず、まずは受け止めます・無理に話す必要はありません（聞くだけでも大丈夫です）・特定の考えを押しつけることはありません（勧誘・宗教・営業など）・会で聞いた内容は外に持ち出さないようお願いします・出入りは自由です \n※医療行為や専門的な助言を行う場ではありません
URL:https://gocha-setagaya.jp/event/family-meeting-20260502/
LOCATION:世田谷産業プラザ\, 太子堂2-16-7\, 世田谷区\, 東京都\, 154-0004\, Japan
CATEGORIES:家族会
END:VEVENT
BEGIN:VEVENT
DTSTART;TZID=Asia/Tokyo:20260506T130000
DTEND;TZID=Asia/Tokyo:20260506T150000
DTSTAMP:20260421T141522
CREATED:20260418T015830Z
LAST-MODIFIED:20260418T015830Z
UID:650-1778072400-1778079600@gocha-setagaya.jp
SUMMARY:ゴチャせたがや｜居場所イベント（５月６日）
DESCRIPTION:【こんな方のための居場所です】\n・人との関わりをゆっくり始めたい方・同じ悩みを持つ人同士で話し合いたい方・ひきこもりの状態にある方・発達特性の方 \n\nテーマ\n　・仕事（職場）のこと　・家族・友人のこと　・これからのこと　・対話（ダイアローグ）　（聞くだけも大丈夫です）※内容は参加される方の様子に合わせて行います。 \n\n開催概要\n　日時：2026年5月6日（水）13:00-15:00 \n　場所：世田谷産業プラザ ３F 小会議室（世田谷区太子堂2-16-7）　　　　※三軒茶屋駅から徒歩３分 \n　参加費：無料 \n　定員：少人数 \n　申込：不要（途中参加・途中退出OK） \n\n安心して参加するために\n【安心して過ごすために】・お互いを尊重し、丁寧に交流します・相手の話を否定せず、まずは受け止めよう・強引に勧誘しない（ビジネス・宗教・声掛け）・居場所での会話内容は外で話さない・出入り自由（途中参加・途中退出OK）※医療行為や助言は行いません
URL:https://gocha-setagaya.jp/event/ibasho-event-20260506/
LOCATION:世田谷産業プラザ\, 太子堂2-16-7\, 世田谷区\, 東京都\, 154-0004\, Japan
CATEGORIES:居場所
END:VEVENT
BEGIN:VEVENT
DTSTART;TZID=Asia/Tokyo:20260515T130000
DTEND;TZID=Asia/Tokyo:20260515T150000
DTSTAMP:20260421T141522
CREATED:20260418T020046Z
LAST-MODIFIED:20260418T023858Z
UID:651-1778850000-1778857200@gocha-setagaya.jp
SUMMARY:ゴチャせたがや｜居場所イベント（５月１５日）
DESCRIPTION:【こんな方のための居場所です】\n・人との関わりをゆっくり始めたい方・同じ悩みを持つ人同士で話し合いたい方・ひきこもりの状態にある方・発達特性の方 \n\nテーマ\n　・仕事（職場）のこと　・家族・友人のこと　・これからのこと　・対話（ダイアローグ）　（聞くだけも大丈夫です）※内容は参加される方の様子に合わせて行います。 \n\n開催概要\n　日時：2026年5月15日（金）13:00-15:00 \n　場所：世田谷産業プラザ ３F 小会議室（世田谷区太子堂2-16-7）　　　　※三軒茶屋駅から徒歩３分 \n　参加費：無料 \n　定員：少人数 \n　申込：不要（途中参加・途中退出OK） \n\n安心して参加するために\n【安心して過ごすために】・お互いを尊重し、丁寧に交流します・相手の話を否定せず、まずは受け止めよう・強引に勧誘しない（ビジネス・宗教・声掛け）・居場所での会話内容は外で話さない・出入り自由（途中参加・途中退出OK）※医療行為や助言は行いません
URL:https://gocha-setagaya.jp/event/ibasho-event-20260515/
LOCATION:世田谷産業プラザ\, 太子堂2-16-7\, 世田谷区\, 東京都\, 154-0004\, Japan
CATEGORIES:居場所
END:VEVENT
BEGIN:VEVENT
DTSTART;TZID=Asia/Tokyo:20260515T150000
DTEND;TZID=Asia/Tokyo:20260515T170000
DTSTAMP:20260421T141522
CREATED:20260420T124505Z
LAST-MODIFIED:20260420T124542Z
UID:680-1778857200-1778864400@gocha-setagaya.jp
SUMMARY:ゴチャせたがや｜家族会（５月１５日）
DESCRIPTION:【こんな方のための家族会です】\n・ご家族のことで悩みや不安を感じている方・同じ立場の方と話をしてみたい方・ひきこもりの状態にあるご家族を支えている方・どう関わればよいか迷っている方 \n\nテーマ\n・ご家族との関わり方について・日々の不安や悩みについて・これからのこと・参加者同士の対話（ダイアローグ） \n（聞くだけの参加も大丈夫です）※内容は参加される方の様子に合わせて行います。 \n\n開催概要\n　日時：2026年5月15日（土）15:00-17:00 \n　場所：世田谷産業プラザ ３F 小会議室（世田谷区太子堂2-16-7）　　　　※三軒茶屋駅から徒歩３分 \n　参加費：無料 \n　定員：少人数 \n　申込：不要（途中参加・途中退出OK） \n\n安心して参加するために\n【安心して過ごすために】 \n・お互いを尊重し、丁寧に話をします・相手の話を否定せず、まずは受け止めます・無理に話す必要はありません（聞くだけでも大丈夫です）・特定の考えを押しつけることはありません（勧誘・宗教・営業など）・会で聞いた内容は外に持ち出さないようお願いします・出入りは自由です \n※医療行為や専門的な助言を行う場ではありません
URL:https://gocha-setagaya.jp/event/family-meeting-20260515/
LOCATION:世田谷産業プラザ\, 太子堂2-16-7\, 世田谷区\, 東京都\, 154-0004\, Japan
CATEGORIES:家族会
END:VEVENT
BEGIN:VEVENT
DTSTART;TZID=Asia/Tokyo:20260614T130000
DTEND;TZID=Asia/Tokyo:20260614T150000
DTSTAMP:20260421T141522
CREATED:20260418T020159Z
LAST-MODIFIED:20260418T023917Z
UID:654-1781442000-1781449200@gocha-setagaya.jp
SUMMARY:ゴチャせたがや｜居場所イベント（６月１４日）
DESCRIPTION:【こんな方のための居場所です】\n・人との関わりをゆっくり始めたい方・同じ悩みを持つ人同士で話し合いたい方・ひきこもりの状態にある方・発達特性の方 \n\nテーマ\n　・仕事（職場）のこと　・家族・友人のこと　・これからのこと　・対話（ダイアローグ）　（聞くだけも大丈夫です）※内容は参加される方の様子に合わせて行います。 \n\n開催概要\n　日時：2026年6月14日（日）13:00-15:00 \n　場所：世田谷産業プラザ ３F 小会議室（世田谷区太子堂2-16-7）　　　　※三軒茶屋駅から徒歩３分 \n　参加費：無料 \n　定員：少人数 \n　申込：不要（途中参加・途中退出OK） \n\n安心して参加するために\n【安心して過ごすために】・お互いを尊重し、丁寧に交流します・相手の話を否定せず、まずは受け止めよう・強引に勧誘しない（ビジネス・宗教・声掛け）・居場所での会話内容は外で話さない・出入り自由（途中参加・途中退出OK）※医療行為や助言は行いません
URL:https://gocha-setagaya.jp/event/ibasho-event-20260614/
LOCATION:世田谷産業プラザ\, 太子堂2-16-7\, 世田谷区\, 東京都\, 154-0004\, Japan
CATEGORIES:居場所
END:VEVENT
BEGIN:VEVENT
DTSTART;TZID=Asia/Tokyo:20260620T150000
DTEND;TZID=Asia/Tokyo:20260620T170000
DTSTAMP:20260421T141522
CREATED:20260420T124723Z
LAST-MODIFIED:20260420T124723Z
UID:682-1781967600-1781974800@gocha-setagaya.jp
SUMMARY:ゴチャせたがや｜家族会（６月２０日）
DESCRIPTION:【こんな方のための家族会です】\n・ご家族のことで悩みや不安を感じている方・同じ立場の方と話をしてみたい方・ひきこもりの状態にあるご家族を支えている方・どう関わればよいか迷っている方 \n\nテーマ\n・ご家族との関わり方について・日々の不安や悩みについて・これからのこと・参加者同士の対話（ダイアローグ） \n（聞くだけの参加も大丈夫です）※内容は参加される方の様子に合わせて行います。 \n\n開催概要\n　日時：2026年5月15日（土）15:00-17:00 \n　場所：世田谷産業プラザ ３F 小会議室（世田谷区太子堂2-16-7）　　　　※三軒茶屋駅から徒歩３分 \n　参加費：無料 \n　定員：少人数 \n　申込：不要（途中参加・途中退出OK） \n\n安心して参加するために\n【安心して過ごすために】 \n・お互いを尊重し、丁寧に話をします・相手の話を否定せず、まずは受け止めます・無理に話す必要はありません（聞くだけでも大丈夫です）・特定の考えを押しつけることはありません（勧誘・宗教・営業など）・会で聞いた内容は外に持ち出さないようお願いします・出入りは自由です \n※医療行為や専門的な助言を行う場ではありません
URL:https://gocha-setagaya.jp/event/family-meeting-20260620/
LOCATION:世田谷産業プラザ\, 太子堂2-16-7\, 世田谷区\, 東京都\, 154-0004\, Japan
CATEGORIES:家族会
END:VEVENT
END:VCALENDAR